BEGIN:VCALENDAR
VERSION:2.0
PRODID:-//eventon.com NONSGML v1.0//EN
BEGIN:VEVENT
UID:69e5e3e1b3fd2
DTSTAMP:20260420T012921
DTSTART:20240301T140000Z
DTEND:20240304T030000Z
LOCATION:
SUMMARY:Nickel Plate (Apex) March  1-3\,  2024
DESCRIPTION: Nickel Plate (Apex) March  1-3\,  2024
END:VEVENT
END:VCALENDAR